BEGIN:VCALENDAR
PRODID:-//vBulletin 6//EN
VERSION:2.0
CALSCALE:GREGORIAN
BEGIN:VEVENT
UID:612b03ce-2069-49e8-acdb-f95f3da87214
DTSTAMP:20260421T231810Z
SUMMARY:Kodowanie
DESCRIPTION:Witam \n\nCzy znajdzie sie ktos z opolskiego kto koduje?  Chcia
 lbym wlaczyc opcje swiatel dziennych w mojejO2 2007r.
URL:https://forum.octaviaclub.pl/node/2533559
DTSTART;VALUE=DATE:20171103
LOCATION:Opolskie
END:VEVENT
END:VCALENDAR
