BEGIN:VCALENDAR
PRODID:-//vBulletin 6//EN
VERSION:2.0
CALSCALE:GREGORIAN
BEGIN:VEVENT
UID:67620ecb-772b-4a01-966c-0fd41102a70f
DTSTAMP:20260421T140433Z
SUMMARY:Lusterko kierowcy
DESCRIPTION:Czy ktoś wie co może być powodem że się nie zatrzymuje tam
  gdzie powinno? Da radę samemu ogarnąć temat?\nLink do filmiku\nhttps:/
 /youtube.com/shorts/GiVztk8VqfI?si=pIOApMxjPMEN8jPO
URL:https://forum.octaviaclub.pl/node/2826545
DTSTART;VALUE=DATE:20240123
END:VEVENT
END:VCALENDAR
